BEGIN:VCALENDAR
VERSION:2.0
PRODID:-//Jean Marie Dance Studio - ECPv5.3.1.1//NONSGML v1.0//EN
CALSCALE:GREGORIAN
METHOD:PUBLISH
X-WR-CALNAME:Jean Marie Dance Studio
X-ORIGINAL-URL:https://www.jeanmariedancestudio.com
X-WR-CALDESC:Events for Jean Marie Dance Studio
BEGIN:VTIMEZONE
TZID:America/New_York
BEGIN:DAYLIGHT
TZOFFSETFROM:-0500
TZOFFSETTO:-0400
TZNAME:EDT
DTSTART:20190310T070000
END:DAYLIGHT
BEGIN:STANDARD
TZOFFSETFROM:-0400
TZOFFSETTO:-0500
TZNAME:EST
DTSTART:20191103T060000
END:STANDARD
END:VTIMEZONE
BEGIN:VEVENT
DTSTART;TZID=America/New_York:20190312T190000
DTEND;TZID=America/New_York:20190416T194500
DTSTAMP:20260424T154733
CREATED:20190117T013330Z
LAST-MODIFIED:20190214T212354Z
UID:1510-1552417200-1555443900@www.jeanmariedancestudio.com
SUMMARY:6 Week Session JR Star Combo Ages 6-10
DESCRIPTION:
URL:https://www.jeanmariedancestudio.com/event/6-week-session-jr-star-combo-ages-6-10-6/
END:VEVENT
END:VCALENDAR