BEGIN:VCALENDAR
VERSION:2.0
PRODID:-//Jean Marie Dance Studio - ECPv5.3.1.1//NONSGML v1.0//EN
CALSCALE:GREGORIAN
METHOD:PUBLISH
X-WR-CALNAME:Jean Marie Dance Studio
X-ORIGINAL-URL:https://www.jeanmariedancestudio.com
X-WR-CALDESC:Events for Jean Marie Dance Studio
BEGIN:VTIMEZONE
TZID:America/New_York
BEGIN:DAYLIGHT
TZOFFSETFROM:-0500
TZOFFSETTO:-0400
TZNAME:EDT
DTSTART:20180311T070000
END:DAYLIGHT
BEGIN:STANDARD
TZOFFSETFROM:-0400
TZOFFSETTO:-0500
TZNAME:EST
DTSTART:20181104T060000
END:STANDARD
END:VTIMEZONE
BEGIN:VEVENT
DTSTART;TZID=America/New_York:20180724T190000
DTEND;TZID=America/New_York:20180724T201500
DTSTAMP:20260422T024636
CREATED:20180309T162912Z
LAST-MODIFIED:20180309T162912Z
UID:1216-1532458800-1532463300@www.jeanmariedancestudio.com
SUMMARY:Ballet/Pointe Int/Adv Ages 10+ 7-8:15pm
DESCRIPTION:
URL:https://www.jeanmariedancestudio.com/event/balletpointe-intadv-ages-10-7-815pm-2/
END:VEVENT
END:VCALENDAR