BEGIN:VCALENDAR
VERSION:2.0
PRODID:-//Jean Marie Dance Studio - ECPv5.3.1.1//NONSGML v1.0//EN
CALSCALE:GREGORIAN
METHOD:PUBLISH
X-WR-CALNAME:Jean Marie Dance Studio
X-ORIGINAL-URL:https://www.jeanmariedancestudio.com
X-WR-CALDESC:Events for Jean Marie Dance Studio
BEGIN:VTIMEZONE
TZID:America/New_York
BEGIN:DAYLIGHT
TZOFFSETFROM:-0500
TZOFFSETTO:-0400
TZNAME:EDT
DTSTART:20180311T070000
END:DAYLIGHT
BEGIN:STANDARD
TZOFFSETFROM:-0400
TZOFFSETTO:-0500
TZNAME:EST
DTSTART:20181104T060000
END:STANDARD
END:VTIMEZONE
BEGIN:VEVENT
DTSTART;TZID=America/New_York:20180814T173000
DTEND;TZID=America/New_York:20180814T180000
DTSTAMP:20260423T070117
CREATED:20180309T164841Z
LAST-MODIFIED:20180309T164841Z
UID:1239-1534267800-1534269600@www.jeanmariedancestudio.com
SUMMARY:Creative Movement Ages 2.5-4yr. 5:30-6pm
DESCRIPTION:
URL:https://www.jeanmariedancestudio.com/event/creative-movement-ages-2-5-4yr-530-6pm-4/
END:VEVENT
END:VCALENDAR