BEGIN:VCALENDAR
VERSION:2.0
PRODID:-//Jean Marie Dance Studio - ECPv5.3.1.1//NONSGML v1.0//EN
CALSCALE:GREGORIAN
METHOD:PUBLISH
X-WR-CALNAME:Jean Marie Dance Studio
X-ORIGINAL-URL:https://www.jeanmariedancestudio.com
X-WR-CALDESC:Events for Jean Marie Dance Studio
BEGIN:VTIMEZONE
TZID:America/New_York
BEGIN:DAYLIGHT
TZOFFSETFROM:-0500
TZOFFSETTO:-0400
TZNAME:EDT
DTSTART:20190310T070000
END:DAYLIGHT
BEGIN:STANDARD
TZOFFSETFROM:-0400
TZOFFSETTO:-0500
TZNAME:EST
DTSTART:20191103T060000
END:STANDARD
END:VTIMEZONE
BEGIN:VEVENT
DTSTART;TZID=America/New_York:20190807T190000
DTEND;TZID=America/New_York:20190807T200000
DTSTAMP:20260424T080646
CREATED:20190320T230339Z
LAST-MODIFIED:20190320T230339Z
UID:1631-1565204400-1565208000@www.jeanmariedancestudio.com
SUMMARY:Jazz/Hip Hop/Lyrical
DESCRIPTION:
URL:https://www.jeanmariedancestudio.com/event/jazz-hip-hop-lyrical-5/
END:VEVENT
END:VCALENDAR