BEGIN:VCALENDAR
VERSION:2.0
PRODID:-//Jean Marie Dance Studio - ECPv5.3.1.1//NONSGML v1.0//EN
CALSCALE:GREGORIAN
METHOD:PUBLISH
X-WR-CALNAME:Jean Marie Dance Studio
X-ORIGINAL-URL:https://www.jeanmariedancestudio.com
X-WR-CALDESC:Events for Jean Marie Dance Studio
BEGIN:VTIMEZONE
TZID:America/New_York
BEGIN:DAYLIGHT
TZOFFSETFROM:-0500
TZOFFSETTO:-0400
TZNAME:EDT
DTSTART:20180311T070000
END:DAYLIGHT
BEGIN:STANDARD
TZOFFSETFROM:-0400
TZOFFSETTO:-0500
TZNAME:EST
DTSTART:20181104T060000
END:STANDARD
END:VTIMEZONE
BEGIN:VEVENT
DTSTART;TZID=America/New_York:20180718T180000
DTEND;TZID=America/New_York:20180718T184500
DTSTAMP:20260421T181446
CREATED:20180309T163658Z
LAST-MODIFIED:20180309T163658Z
UID:1224-1531936800-1531939500@www.jeanmariedancestudio.com
SUMMARY:Junior Star Combo Ages 4-6 yr. 6-6:45pm
DESCRIPTION:
URL:https://www.jeanmariedancestudio.com/event/junior-star-combo-ages-4-6-yr-6-645pm/
END:VEVENT
END:VCALENDAR