BEGIN:VCALENDAR
VERSION:2.0
PRODID:-//Jean Marie Dance Studio - ECPv5.3.1.1//NONSGML v1.0//EN
CALSCALE:GREGORIAN
METHOD:PUBLISH
X-WR-CALNAME:Jean Marie Dance Studio
X-ORIGINAL-URL:https://www.jeanmariedancestudio.com
X-WR-CALDESC:Events for Jean Marie Dance Studio
BEGIN:VTIMEZONE
TZID:America/New_York
BEGIN:DAYLIGHT
TZOFFSETFROM:-0500
TZOFFSETTO:-0400
TZNAME:EDT
DTSTART:20200308T070000
END:DAYLIGHT
BEGIN:STANDARD
TZOFFSETFROM:-0400
TZOFFSETTO:-0500
TZNAME:EST
DTSTART:20201101T060000
END:STANDARD
END:VTIMEZONE
BEGIN:VEVENT
DTSTART;TZID=America/New_York:20200207T183000
DTEND;TZID=America/New_York:20200207T200000
DTSTAMP:20260423T090938
CREATED:20200113T213712Z
LAST-MODIFIED:20200113T213712Z
UID:1925-1581100200-1581105600@www.jeanmariedancestudio.com
SUMMARY:Kyle Lucia Master Hip Hop Class 6:30 PM Registration Required
DESCRIPTION:
URL:https://www.jeanmariedancestudio.com/event/kyle-lucia-master-hip-hop-class-630-pm-registration-required/
END:VEVENT
END:VCALENDAR