BEGIN:VCALENDAR
VERSION:2.0
PRODID:-//Jean Marie Dance Studio - ECPv5.3.1.1//NONSGML v1.0//EN
CALSCALE:GREGORIAN
METHOD:PUBLISH
X-WR-CALNAME:Jean Marie Dance Studio
X-ORIGINAL-URL:https://www.jeanmariedancestudio.com
X-WR-CALDESC:Events for Jean Marie Dance Studio
BEGIN:VTIMEZONE
TZID:America/New_York
BEGIN:DAYLIGHT
TZOFFSETFROM:-0500
TZOFFSETTO:-0400
TZNAME:EDT
DTSTART:20180311T070000
END:DAYLIGHT
BEGIN:STANDARD
TZOFFSETFROM:-0400
TZOFFSETTO:-0500
TZNAME:EST
DTSTART:20181104T060000
END:STANDARD
END:VTIMEZONE
BEGIN:VEVENT
DTSTART;VALUE=DATE:20181019
DTEND;VALUE=DATE:20181022
DTSTAMP:20260424T183557
CREATED:20180705T143617Z
LAST-MODIFIED:20180705T143617Z
UID:1320-1539907200-1540166399@www.jeanmariedancestudio.com
SUMMARY:Maryland Council of Dance Festival Chesapeake College Classes and Workshops
DESCRIPTION:
URL:https://www.jeanmariedancestudio.com/event/maryland-council-of-dance-festival-chesapeake-college-classes-and-workshops/
END:VEVENT
END:VCALENDAR