BEGIN:VCALENDAR
VERSION:2.0
PRODID:-//Jean Marie Dance Studio - ECPv5.3.1.1//NONSGML v1.0//EN
CALSCALE:GREGORIAN
METHOD:PUBLISH
X-WR-CALNAME:Jean Marie Dance Studio
X-ORIGINAL-URL:https://www.jeanmariedancestudio.com
X-WR-CALDESC:Events for Jean Marie Dance Studio
BEGIN:VTIMEZONE
TZID:America/New_York
BEGIN:DAYLIGHT
TZOFFSETFROM:-0500
TZOFFSETTO:-0400
TZNAME:EDT
DTSTART:20180311T070000
END:DAYLIGHT
BEGIN:STANDARD
TZOFFSETFROM:-0400
TZOFFSETTO:-0500
TZNAME:EST
DTSTART:20181104T060000
END:STANDARD
END:VTIMEZONE
BEGIN:VEVENT
DTSTART;TZID=America/New_York:20180905T130000
DTEND;TZID=America/New_York:20180905T160000
DTSTAMP:20260424T123252
CREATED:20180809T130633Z
LAST-MODIFIED:20180809T130637Z
UID:1397-1536152400-1536163200@www.jeanmariedancestudio.com
SUMMARY:OPEN HOUSE for Registering for Dance
DESCRIPTION:
URL:https://www.jeanmariedancestudio.com/event/open-house-for-registering-for-dance-3/
END:VEVENT
END:VCALENDAR