BEGIN:VCALENDAR
VERSION:2.0
PRODID:-//Jean Marie Dance Studio - ECPv5.3.1.1//NONSGML v1.0//EN
CALSCALE:GREGORIAN
METHOD:PUBLISH
X-WR-CALNAME:Jean Marie Dance Studio
X-ORIGINAL-URL:https://www.jeanmariedancestudio.com
X-WR-CALDESC:Events for Jean Marie Dance Studio
BEGIN:VTIMEZONE
TZID:America/New_York
BEGIN:DAYLIGHT
TZOFFSETFROM:-0500
TZOFFSETTO:-0400
TZNAME:EDT
DTSTART:20180311T070000
END:DAYLIGHT
BEGIN:STANDARD
TZOFFSETFROM:-0400
TZOFFSETTO:-0500
TZNAME:EST
DTSTART:20181104T060000
END:STANDARD
END:VTIMEZONE
BEGIN:VEVENT
DTSTART;TZID=America/New_York:20180624T123000
DTEND;TZID=America/New_York:20180624T143000
DTSTAMP:20260421T101533
CREATED:20180309T161853Z
LAST-MODIFIED:20180309T161853Z
UID:1207-1529843400-1529850600@www.jeanmariedancestudio.com
SUMMARY:Valery Landtratov Master Class
DESCRIPTION:
URL:https://www.jeanmariedancestudio.com/event/valery-landtratov-master-class/
END:VEVENT
END:VCALENDAR