BEGIN:VCALENDAR
VERSION:2.0
PRODID:-//Jean Marie Dance Studio - ECPv5.3.1.1//NONSGML v1.0//EN
CALSCALE:GREGORIAN
METHOD:PUBLISH
X-WR-CALNAME:Jean Marie Dance Studio
X-ORIGINAL-URL:https://www.jeanmariedancestudio.com
X-WR-CALDESC:Events for Jean Marie Dance Studio
BEGIN:VTIMEZONE
TZID:America/New_York
BEGIN:DAYLIGHT
TZOFFSETFROM:-0500
TZOFFSETTO:-0400
TZNAME:EDT
DTSTART:20190310T070000
END:DAYLIGHT
BEGIN:STANDARD
TZOFFSETFROM:-0400
TZOFFSETTO:-0500
TZNAME:EST
DTSTART:20191103T060000
END:STANDARD
END:VTIMEZONE
BEGIN:VEVENT
DTSTART;TZID=America/New_York:20190710T180000
DTEND;TZID=America/New_York:20190710T190000
DTSTAMP:20260424T095329
CREATED:20190320T225821Z
LAST-MODIFIED:20190320T225821Z
UID:1611-1562781600-1562785200@www.jeanmariedancestudio.com
SUMMARY:Junior Star Combo
DESCRIPTION:
URL:https://www.jeanmariedancestudio.com/event/junior-star-combo/
END:VEVENT
BEGIN:VEVENT
DTSTART;TZID=America/New_York:20190710T190000
DTEND;TZID=America/New_York:20190710T200000
DTSTAMP:20260424T095329
CREATED:20190320T230158Z
LAST-MODIFIED:20190320T230158Z
UID:1623-1562785200-1562788800@www.jeanmariedancestudio.com
SUMMARY:Jazz/Hip Hop/Lyrical
DESCRIPTION:
URL:https://www.jeanmariedancestudio.com/event/jazz-hip-hop-lyrical/
END:VEVENT
BEGIN:VEVENT
DTSTART;TZID=America/New_York:20190710T200000
DTEND;TZID=America/New_York:20190710T210000
DTSTAMP:20260424T095329
CREATED:20190320T230516Z
LAST-MODIFIED:20190320T230516Z
UID:1635-1562788800-1562792400@www.jeanmariedancestudio.com
SUMMARY:Contemporary/Lyrical
DESCRIPTION:
URL:https://www.jeanmariedancestudio.com/event/contemporary-lyrical/
END:VEVENT
END:VCALENDAR