BEGIN:VCALENDAR
VERSION:2.0
PRODID:-//Jean Marie Dance Studio - ECPv5.3.1.1//NONSGML v1.0//EN
CALSCALE:GREGORIAN
METHOD:PUBLISH
X-WR-CALNAME:Jean Marie Dance Studio
X-ORIGINAL-URL:https://www.jeanmariedancestudio.com
X-WR-CALDESC:Events for Jean Marie Dance Studio
BEGIN:VTIMEZONE
TZID:America/New_York
BEGIN:DAYLIGHT
TZOFFSETFROM:-0500
TZOFFSETTO:-0400
TZNAME:EDT
DTSTART:20190310T070000
END:DAYLIGHT
BEGIN:STANDARD
TZOFFSETFROM:-0400
TZOFFSETTO:-0500
TZNAME:EST
DTSTART:20191103T060000
END:STANDARD
END:VTIMEZONE
BEGIN:VEVENT
DTSTART;TZID=America/New_York:20190725T180000
DTEND;TZID=America/New_York:20190725T190000
DTSTAMP:20260424T095355
CREATED:20190320T231244Z
LAST-MODIFIED:20190320T231244Z
UID:1655-1564077600-1564081200@www.jeanmariedancestudio.com
SUMMARY:Ballet
DESCRIPTION:
URL:https://www.jeanmariedancestudio.com/event/ballet-3/
END:VEVENT
BEGIN:VEVENT
DTSTART;TZID=America/New_York:20190725T190000
DTEND;TZID=America/New_York:20190725T200000
DTSTAMP:20260424T095355
CREATED:20190320T231857Z
LAST-MODIFIED:20190320T231857Z
UID:1667-1564081200-1564084800@www.jeanmariedancestudio.com
SUMMARY:Tap
DESCRIPTION:
URL:https://www.jeanmariedancestudio.com/event/tap-3/
END:VEVENT
END:VCALENDAR