BEGIN:VCALENDAR
VERSION:2.0
PRODID:-//Jean Marie Dance Studio - ECPv5.3.1.1//NONSGML v1.0//EN
CALSCALE:GREGORIAN
METHOD:PUBLISH
X-WR-CALNAME:Jean Marie Dance Studio
X-ORIGINAL-URL:https://www.jeanmariedancestudio.com
X-WR-CALDESC:Events for Jean Marie Dance Studio
BEGIN:VTIMEZONE
TZID:America/New_York
BEGIN:DAYLIGHT
TZOFFSETFROM:-0500
TZOFFSETTO:-0400
TZNAME:EDT
DTSTART:20190310T070000
END:DAYLIGHT
BEGIN:STANDARD
TZOFFSETFROM:-0400
TZOFFSETTO:-0500
TZNAME:EST
DTSTART:20191103T060000
END:STANDARD
END:VTIMEZONE
BEGIN:VEVENT
DTSTART;TZID=America/New_York:20190814T180000
DTEND;TZID=America/New_York:20190814T190000
DTSTAMP:20260424T080441
CREATED:20190320T230104Z
LAST-MODIFIED:20190320T230104Z
UID:1621-1565805600-1565809200@www.jeanmariedancestudio.com
SUMMARY:Junior Star Combo
DESCRIPTION:
URL:https://www.jeanmariedancestudio.com/event/junior-star-combo-6/
END:VEVENT
BEGIN:VEVENT
DTSTART;TZID=America/New_York:20190814T190000
DTEND;TZID=America/New_York:20190814T200000
DTSTAMP:20260424T080441
CREATED:20190320T230402Z
LAST-MODIFIED:20190320T230402Z
UID:1633-1565809200-1565812800@www.jeanmariedancestudio.com
SUMMARY:Jazz./Hip Hop/Lyrical
DESCRIPTION:
URL:https://www.jeanmariedancestudio.com/event/jazz-hip-hop-lyrical-6/
END:VEVENT
BEGIN:VEVENT
DTSTART;TZID=America/New_York:20190814T200000
DTEND;TZID=America/New_York:20190814T210000
DTSTAMP:20260424T080441
CREATED:20190320T230717Z
LAST-MODIFIED:20190320T230717Z
UID:1645-1565812800-1565816400@www.jeanmariedancestudio.com
SUMMARY:Contemporary/Lyrical
DESCRIPTION:
URL:https://www.jeanmariedancestudio.com/event/contemporary-lyrical-6/
END:VEVENT
END:VCALENDAR