BEGIN:VCALENDAR
VERSION:2.0
PRODID:-//Jean Marie Dance Studio - ECPv5.3.1.1//NONSGML v1.0//EN
CALSCALE:GREGORIAN
METHOD:PUBLISH
X-WR-CALNAME:Jean Marie Dance Studio
X-ORIGINAL-URL:https://www.jeanmariedancestudio.com
X-WR-CALDESC:Events for Jean Marie Dance Studio
BEGIN:VTIMEZONE
TZID:America/New_York
BEGIN:DAYLIGHT
TZOFFSETFROM:-0500
TZOFFSETTO:-0400
TZNAME:EDT
DTSTART:20210314T070000
END:DAYLIGHT
BEGIN:STANDARD
TZOFFSETFROM:-0400
TZOFFSETTO:-0500
TZNAME:EST
DTSTART:20211107T060000
END:STANDARD
END:VTIMEZONE
BEGIN:VEVENT
DTSTART;VALUE=DATE:20210402
DTEND;VALUE=DATE:20210406
DTSTAMP:20260422T220413
CREATED:20201203T001337Z
LAST-MODIFIED:20201203T001337Z
UID:2086-1617321600-1617667199@www.jeanmariedancestudio.com
SUMMARY:Spring Break No Dance Classes
DESCRIPTION:
URL:https://www.jeanmariedancestudio.com/event/spring-break-no-dance-classes/
END:VEVENT
END:VCALENDAR